BEGIN:VCALENDAR
VERSION:2.0
PRODID:-//Ayuntamiento de Lecrín - ECPv6.2.5//NONSGML v1.0//EN
CALSCALE:GREGORIAN
METHOD:PUBLISH
X-ORIGINAL-URL:https://nuevo.eslecrin.es
X-WR-CALDESC:Eventos para Ayuntamiento de Lecrín
REFRESH-INTERVAL;VALUE=DURATION:PT1H
X-Robots-Tag:noindex
X-PUBLISHED-TTL:PT1H
BEGIN:VTIMEZONE
TZID:UTC
BEGIN:STANDARD
TZOFFSETFROM:+0000
TZOFFSETTO:+0000
TZNAME:UTC
DTSTART:20210101T000000
END:STANDARD
END:VTIMEZONE
BEGIN:VEVENT
DTSTART;TZID=UTC:20211215T183000
DTEND;TZID=UTC:20211215T203000
DTSTAMP:20260425T194310
CREATED:20211214T100930Z
LAST-MODIFIED:20211214T100930Z
UID:4306-1639593000-1639600200@nuevo.eslecrin.es
SUMMARY:Comienza el deporte
DESCRIPTION:Si tienes 3 años en adelante vente a la reunión que haremos el miércoles 15 en las escuelas de Talará de 18:30-20:00 infórmate y apúntate\, la mejor manera para ganar salud\, mejorar físicamente\, aprender un deporte y un largo etcétera de beneficios.
URL:https://nuevo.eslecrin.es/eventos/comienza-el-deporte
END:VEVENT
END:VCALENDAR