BEGIN:VCALENDAR
VERSION:2.0
PRODID:-//Ayuntamiento de Lecrín - ECPv6.2.5//NONSGML v1.0//EN
CALSCALE:GREGORIAN
METHOD:PUBLISH
X-WR-CALNAME:Ayuntamiento de Lecrín
X-ORIGINAL-URL:https://nuevo.eslecrin.es
X-WR-CALDESC:Eventos para Ayuntamiento de Lecrín
REFRESH-INTERVAL;VALUE=DURATION:PT1H
X-Robots-Tag:noindex
X-PUBLISHED-TTL:PT1H
BEGIN:VTIMEZONE
TZID:UTC
BEGIN:STANDARD
TZOFFSETFROM:+0000
TZOFFSETTO:+0000
TZNAME:UTC
DTSTART:20210101T000000
END:STANDARD
END:VTIMEZONE
BEGIN:VEVENT
DTSTART;TZID=UTC:20211216T083000
DTEND;TZID=UTC:20211217T170000
DTSTAMP:20260425T193759
CREATED:20211212T190743Z
LAST-MODIFIED:20211212T190743Z
UID:4289-1639643400-1639760400@nuevo.eslecrin.es
SUMMARY:Viaje para mayores
DESCRIPTION:Viaje para mayores de 65 años\, los días 16 y 17 de diciembre\, plazas limitadas\, inscripciones en el Ayuntamiento de Lecrín.
URL:https://nuevo.eslecrin.es/eventos/viaje-para-mayores
END:VEVENT
END:VCALENDAR