BEGIN:VCALENDAR
VERSION:2.0
PRODID:-//Ayuntamiento de Lecrín - ECPv6.2.5//NONSGML v1.0//EN
CALSCALE:GREGORIAN
METHOD:PUBLISH
X-WR-CALNAME:Ayuntamiento de Lecrín
X-ORIGINAL-URL:https://nuevo.eslecrin.es
X-WR-CALDESC:Eventos para Ayuntamiento de Lecrín
REFRESH-INTERVAL;VALUE=DURATION:PT1H
X-Robots-Tag:noindex
X-PUBLISHED-TTL:PT1H
BEGIN:VTIMEZONE
TZID:UTC
BEGIN:STANDARD
TZOFFSETFROM:+0000
TZOFFSETTO:+0000
TZNAME:UTC
DTSTART:20210101T000000
END:STANDARD
END:VTIMEZONE
BEGIN:VEVENT
DTSTART;TZID=UTC:20211219T070000
DTEND;TZID=UTC:20211219T210000
DTSTAMP:20260425T193835
CREATED:20211214T101053Z
LAST-MODIFIED:20211214T101053Z
UID:4309-1639897200-1639947600@nuevo.eslecrin.es
SUMMARY:Concierto de navidad
DESCRIPTION:Este fin de semana nuestra formación ofrecerá el concierto de Navidad. \nEl sábado 18 de diciembre tendrá lugar en la Iglesia de Nigüelas y el domingo 19 de diciembre en la Casa de la Cultura de Talará\, ambos a las 19:00 horas.
URL:https://nuevo.eslecrin.es/eventos/concierto-de-navidad
END:VEVENT
END:VCALENDAR