BEGIN:VCALENDAR
VERSION:2.0
PRODID:-//Ayuntamiento de Lecrín - ECPv6.2.5//NONSGML v1.0//EN
CALSCALE:GREGORIAN
METHOD:PUBLISH
X-WR-CALNAME:Ayuntamiento de Lecrín
X-ORIGINAL-URL:https://nuevo.eslecrin.es
X-WR-CALDESC:Eventos para Ayuntamiento de Lecrín
REFRESH-INTERVAL;VALUE=DURATION:PT1H
X-Robots-Tag:noindex
X-PUBLISHED-TTL:PT1H
BEGIN:VTIMEZONE
TZID:UTC
BEGIN:STANDARD
TZOFFSETFROM:+0000
TZOFFSETTO:+0000
TZNAME:UTC
DTSTART:20230101T000000
END:STANDARD
END:VTIMEZONE
BEGIN:VEVENT
DTSTART;TZID=UTC:20230316T173000
DTEND;TZID=UTC:20230316T190000
DTSTAMP:20260425T193801
CREATED:20230315T141913Z
LAST-MODIFIED:20230315T141917Z
UID:5581-1678987800-1678993200@nuevo.eslecrin.es
SUMMARY:Tu ayuntamiento en… Chite
DESCRIPTION:En las escuelas de Chite\, el jueves 16 de marzo a las 19:30h. \n\n\n\nAlcalde y concejales estarán presentes para atender cualquier necesidad o trámite pendiente de los vecinos. \n\n\n\nRecordamos que para contactar de forma presencial con nuestro alcalde Pedro Titos\, puede hacerlo dirigiéndose al Ayuntamiento de Lecrín: \n\n\n\nDe lunes a viernes de 8:00 a 9:30\, y todas las tardes y fines de semana. \n\n\n\nTeléfono: 657 855 495
URL:https://nuevo.eslecrin.es/eventos/tu-ayuntamiento-en-chite
END:VEVENT
END:VCALENDAR