BEGIN:VCALENDAR
VERSION:2.0
PRODID:-//Ayuntamiento de Lecrín - ECPv6.2.5//NONSGML v1.0//EN
CALSCALE:GREGORIAN
METHOD:PUBLISH
X-WR-CALNAME:Ayuntamiento de Lecrín
X-ORIGINAL-URL:https://nuevo.eslecrin.es
X-WR-CALDESC:Eventos para Ayuntamiento de Lecrín
REFRESH-INTERVAL;VALUE=DURATION:PT1H
X-Robots-Tag:noindex
X-PUBLISHED-TTL:PT1H
BEGIN:VTIMEZONE
TZID:UTC
BEGIN:STANDARD
TZOFFSETFROM:+0000
TZOFFSETTO:+0000
TZNAME:UTC
DTSTART:20190101T000000
END:STANDARD
END:VTIMEZONE
BEGIN:VEVENT
DTSTART;TZID=UTC:20210703T100000
DTEND;TZID=UTC:20210703T220000
DTSTAMP:20260425T140920
CREATED:20210611T083147Z
LAST-MODIFIED:20210611T112628Z
UID:3918-1625306400-1625349600@nuevo.eslecrin.es
SUMMARY:Gaming Lecrín
DESCRIPTION:Gran evento de Gaming en Lecrín\, con torneos de Fornite\, Fifa 21\, Brawl Stars. Con PS5\, PS4\, PC gaming\, realidad virtual\, maquinas retro\, scalextric gigante\, hama beads y mucho más. \nEl 3 de julio de 10.00 a 14.00 y de 17.00 a 22.00 en la casa de la cultura de Talará. \nInscripciones gratuitas\, aforo limitado. Todas las medidas de seguridad\, control de temperatura\, gel hidroalcohólico y mascarillas obligatorias.
URL:https://nuevo.eslecrin.es/eventos/gaming-lecrin
END:VEVENT
BEGIN:VEVENT
DTSTART;TZID=UTC:20210702T220000
DTEND;TZID=UTC:20210702T233000
DTSTAMP:20260425T140920
CREATED:20210629T154749Z
LAST-MODIFIED:20210629T160859Z
UID:3965-1625263200-1625268600@nuevo.eslecrin.es
SUMMARY:Película Dumbo
DESCRIPTION:Película Dumbo en el Molino de Mondújar a las 22.00\, el 2 de julio.
URL:https://nuevo.eslecrin.es/eventos/pelicula-dumbo
END:VEVENT
BEGIN:VEVENT
DTSTART;TZID=UTC:20210626T203000
DTEND;TZID=UTC:20210626T213000
DTSTAMP:20260425T140920
CREATED:20210621T101712Z
LAST-MODIFIED:20210621T101712Z
UID:3930-1624739400-1624743000@nuevo.eslecrin.es
SUMMARY:Teatro municipal
DESCRIPTION:Les invitamos el próximo sábado 26 de junio a las 20.30 h al estreno de la nueva creación del Taller Municipal de Teatro de Lecrín con el título «La edad de la ciruela»\, una adaptación del guion de Arístides Vargas.
URL:https://nuevo.eslecrin.es/eventos/teatro-municipal
END:VEVENT
BEGIN:VEVENT
DTSTART;VALUE=DATE:20210612
DTEND;VALUE=DATE:20210613
DTSTAMP:20260425T140920
CREATED:20210611T074910Z
LAST-MODIFIED:20210611T074910Z
UID:3902-1623456000-1623542399@nuevo.eslecrin.es
SUMMARY:Milla urbana Lecrín
DESCRIPTION:Es una carrera en asfalto que se realizara en Mondújar el sábado 12 de junio en horario de mañana.
URL:https://nuevo.eslecrin.es/eventos/milla-urbana-lecrin
END:VEVENT
BEGIN:VEVENT
DTSTART;TZID=UTC:20190630T080000
DTEND;TZID=UTC:20190630T170000
DTSTAMP:20260425T140920
CREATED:20190630T221823Z
LAST-MODIFIED:20200113T130200Z
UID:404-1561881600-1561914000@nuevo.eslecrin.es
SUMMARY:Calendarios
DESCRIPTION:
URL:https://nuevo.eslecrin.es/eventos/calendarios
END:VEVENT
END:VCALENDAR