BEGIN:VCALENDAR
VERSION:2.0
PRODID:-//Ayuntamiento de Lecrín - ECPv6.2.5//NONSGML v1.0//EN
CALSCALE:GREGORIAN
METHOD:PUBLISH
X-WR-CALNAME:Ayuntamiento de Lecrín
X-ORIGINAL-URL:https://nuevo.eslecrin.es
X-WR-CALDESC:Eventos para Ayuntamiento de Lecrín
REFRESH-INTERVAL;VALUE=DURATION:PT1H
X-Robots-Tag:noindex
X-PUBLISHED-TTL:PT1H
BEGIN:VTIMEZONE
TZID:UTC
BEGIN:STANDARD
TZOFFSETFROM:+0000
TZOFFSETTO:+0000
TZNAME:UTC
DTSTART:20220101T000000
END:STANDARD
END:VTIMEZONE
BEGIN:VEVENT
DTSTART;VALUE=DATE:20220217
DTEND;VALUE=DATE:20220218
DTSTAMP:20260426T020310
CREATED:20220127T152537Z
LAST-MODIFIED:20220127T152537Z
UID:4413-1645056000-1645142399@nuevo.eslecrin.es
SUMMARY:Nos vamos a la nieve 2
DESCRIPTION:Dos días en la nive\, edad mínima 6 años\, precio de 90.20€ por persona\, inscripción hasta el 17 de febrero en el Ayuntamiento de Lecrín.
URL:https://nuevo.eslecrin.es/eventos/nos-vamos-a-la-nieve-2
END:VEVENT
BEGIN:VEVENT
DTSTART;TZID=UTC:20220226T180000
DTEND;TZID=UTC:20220226T220000
DTSTAMP:20260426T020310
CREATED:20220208T154509Z
LAST-MODIFIED:20220208T154509Z
UID:4452-1645898400-1645912800@nuevo.eslecrin.es
SUMMARY:Carnaval 2022
DESCRIPTION:Sábado 26 de febrero a las 18.00 pasacalles\, 20.00 concurso de disfraces \nMas información en las bases.
URL:https://nuevo.eslecrin.es/eventos/carnaval-2022
END:VEVENT
BEGIN:VEVENT
DTSTART;VALUE=DATE:20220228
DTEND;VALUE=DATE:20220301
DTSTAMP:20260426T020310
CREATED:20220131T162013Z
LAST-MODIFIED:20220131T162013Z
UID:4421-1646006400-1646092799@nuevo.eslecrin.es
SUMMARY:IX Subida Sabuco
DESCRIPTION:El Ayuntamiento de Lecrín\, organiza la novena edición de la «Subida MTB Fuente del Sabuco». Se celebrará el 28 de febrero de 2022\, y la inscripción está abierta a todos los deportistas que deseen participar\, federados o no. ¡Os esperamos! \n\nDistancia : 30 Km\nPrecio: 15 euros\nInscripción: http://www.global-tempo.com/carreras.php?id=1711
URL:https://nuevo.eslecrin.es/eventos/ix-subida-sabuco
END:VEVENT
END:VCALENDAR