BEGIN:VCALENDAR
VERSION:2.0
PRODID:-//Ayuntamiento de Lecrín - ECPv6.2.5//NONSGML v1.0//EN
CALSCALE:GREGORIAN
METHOD:PUBLISH
X-ORIGINAL-URL:https://nuevo.eslecrin.es
X-WR-CALDESC:Eventos para Ayuntamiento de Lecrín
REFRESH-INTERVAL;VALUE=DURATION:PT1H
X-Robots-Tag:noindex
X-PUBLISHED-TTL:PT1H
BEGIN:VTIMEZONE
TZID:UTC
BEGIN:STANDARD
TZOFFSETFROM:+0000
TZOFFSETTO:+0000
TZNAME:UTC
DTSTART:20220101T000000
END:STANDARD
END:VTIMEZONE
BEGIN:VEVENT
DTSTART;TZID=UTC:20221231T080000
DTEND;TZID=UTC:20230103T170000
DTSTAMP:20260425T141354
CREATED:20221227T201218Z
LAST-MODIFIED:20221227T201218Z
UID:5256-1672473600-1672765200@nuevo.eslecrin.es
SUMMARY:Fiestas de Murchas
DESCRIPTION:Ya puedes ver la programación\, la Mayordomía de Murchas informa: \nDebido a la exposición de coches clásicos que tendrá lugar el día 2 de enero\, no se podrá estacionar ningún vehículo desde las 12:30h hasta las 18:00h en las siguientes zonas: la plaza del pueblo\, la placeta pequeña que hay junto a la Iglesia y la placeta que va a la carpa de fiestas.
URL:https://nuevo.eslecrin.es/eventos/fiestas-de-murchas
END:VEVENT
BEGIN:VEVENT
DTSTART;TZID=UTC:20230112T090000
DTEND;TZID=UTC:20230112T110000
DTSTAMP:20260425T141354
CREATED:20221026T071333Z
LAST-MODIFIED:20230112T140953Z
UID:5111-1673514000-1673521200@nuevo.eslecrin.es
SUMMARY:Tramitación DNI
DESCRIPTION:Día 12 de enero tramitación del DNI\, día 13 de enero recogida de documentos\, a las 9:00 en el colegio de adultos de Lecrín. Pide tu cita previa en el Ayuntamiento de Lecrín.
URL:https://nuevo.eslecrin.es/eventos/tramitacion-dni-3
END:VEVENT
BEGIN:VEVENT
DTSTART;TZID=UTC:20230114T090000
DTEND;TZID=UTC:20230114T123000
DTSTAMP:20260425T141354
CREATED:20230112T140828Z
LAST-MODIFIED:20230112T140830Z
UID:5339-1673686800-1673699400@nuevo.eslecrin.es
SUMMARY:San Antón Béznar
DESCRIPTION:El 14 de enero en Béznar tendrá lugar la festividad de San Antón. (Foto realizada por nuestro vecino Pepe Maldonado)
URL:https://nuevo.eslecrin.es/eventos/san-anton-beznar
END:VEVENT
BEGIN:VEVENT
DTSTART;TZID=UTC:20230120T080000
DTEND;TZID=UTC:20230122T170000
DTSTAMP:20260425T141354
CREATED:20230113T095310Z
LAST-MODIFIED:20230113T095314Z
UID:5349-1674201600-1674406800@nuevo.eslecrin.es
SUMMARY:Fiestas de Acequias
DESCRIPTION:Fiestas de Acequias del 20 al 22 de enero.
URL:https://nuevo.eslecrin.es/eventos/fiestas-de-acequias
END:VEVENT
BEGIN:VEVENT
DTSTART;TZID=UTC:20230125T120000
DTEND;TZID=UTC:20230125T140000
DTSTAMP:20260425T141355
CREATED:20230119T123355Z
LAST-MODIFIED:20230119T123516Z
UID:5389-1674648000-1674655200@nuevo.eslecrin.es
SUMMARY:Habilidades sociales
DESCRIPTION:El miércoles 25 de enero\, se celebrará una sesión de presentación del programa Habilidades digitales para mujeres PROFEA (antiguo PER)\, impulsado por el SEPE. En el Salón de plenos del Ayuntamiento de Lecrín a las 12:00h.
URL:https://nuevo.eslecrin.es/eventos/habilidades-sociales
END:VEVENT
END:VCALENDAR