BEGIN:VCALENDAR
VERSION:2.0
PRODID:-//Ayuntamiento de Lecrín - ECPv6.2.5//NONSGML v1.0//EN
CALSCALE:GREGORIAN
METHOD:PUBLISH
X-ORIGINAL-URL:https://nuevo.eslecrin.es
X-WR-CALDESC:Eventos para Ayuntamiento de Lecrín
REFRESH-INTERVAL;VALUE=DURATION:PT1H
X-Robots-Tag:noindex
X-PUBLISHED-TTL:PT1H
BEGIN:VTIMEZONE
TZID:UTC
BEGIN:STANDARD
TZOFFSETFROM:+0000
TZOFFSETTO:+0000
TZNAME:UTC
DTSTART:20230101T000000
END:STANDARD
END:VTIMEZONE
BEGIN:VEVENT
DTSTART;TZID=UTC:20230210T170000
DTEND;TZID=UTC:20230210T190000
DTSTAMP:20260425T160641
CREATED:20230124T131508Z
LAST-MODIFIED:20230124T131512Z
UID:5407-1676048400-1676055600@nuevo.eslecrin.es
SUMMARY:Taller de nutrición
DESCRIPTION:Taller de “NutritiON” impartido por Antonio Rodríguez Dietista-Nutricionista. Come saludable\, adelgaza\, elimina estrés y aumenta tu autoestima. El viernes 10 de febrero a las 17:00h en la Casa de la Cultura de Talará.
URL:https://nuevo.eslecrin.es/eventos/taller-de-nutricion
END:VEVENT
BEGIN:VEVENT
DTSTART;TZID=UTC:20230215T170000
DTEND;TZID=UTC:20230215T190000
DTSTAMP:20260425T160641
CREATED:20230212T123600Z
LAST-MODIFIED:20230212T123603Z
UID:5466-1676480400-1676487600@nuevo.eslecrin.es
SUMMARY:Clases de Pintura
DESCRIPTION:Reunión informativa en la Casa de la Cultura de Talará el miércoles 15 de febrero a las 17:00h.
URL:https://nuevo.eslecrin.es/eventos/clases-de-pintura
END:VEVENT
BEGIN:VEVENT
DTSTART;TZID=UTC:20230215T170000
DTEND;TZID=UTC:20230215T190000
DTSTAMP:20260425T160641
CREATED:20230213T142516Z
LAST-MODIFIED:20230213T142519Z
UID:5472-1676480400-1676487600@nuevo.eslecrin.es
SUMMARY:Ayuntamiento en... Acequias
DESCRIPTION:Acequias\, Nave de Usos Múltiples\, el miércoles 15 de febrero a las 19:00h. \nAlcalde y concejales estarán presentes para atender cualquier necesidad o trámite pendiente de los vecinos.
URL:https://nuevo.eslecrin.es/eventos/ayuntamiento-en-acequias-2
END:VEVENT
BEGIN:VEVENT
DTSTART;TZID=UTC:20230218T180000
DTEND;TZID=UTC:20230218T230000
DTSTAMP:20260425T160641
CREATED:20230124T131630Z
LAST-MODIFIED:20230124T131632Z
UID:5409-1676743200-1676761200@nuevo.eslecrin.es
SUMMARY:Carnaval
DESCRIPTION:El sábado 18 de febrero\, todos los que deseen participar en el pasacalles y posterior concurso\, deberán inscribirse en el Ayuntamiento. El plazo de inscripción es desde el día 1 de febrero hasta el día 16 de febrero a las 12:00 de la mañana. \n\n18:00H Pasacalles animado por la Banda San Juan Bautista de Nigüelas-Lecrín.\n20:00H Gran fiesta con DJ’S\, barra\, concurso de disfraces y comparsas.
URL:https://nuevo.eslecrin.es/eventos/carnaval
END:VEVENT
END:VCALENDAR