BEGIN:VCALENDAR
VERSION:2.0
PRODID:-//Ayuntamiento de Lecrín - ECPv6.2.5//NONSGML v1.0//EN
CALSCALE:GREGORIAN
METHOD:PUBLISH
X-WR-CALNAME:Ayuntamiento de Lecrín
X-ORIGINAL-URL:https://nuevo.eslecrin.es
X-WR-CALDESC:Eventos para Ayuntamiento de Lecrín
REFRESH-INTERVAL;VALUE=DURATION:PT1H
X-Robots-Tag:noindex
X-PUBLISHED-TTL:PT1H
BEGIN:VTIMEZONE
TZID:UTC
BEGIN:STANDARD
TZOFFSETFROM:+0000
TZOFFSETTO:+0000
TZNAME:UTC
DTSTART:20230101T000000
END:STANDARD
END:VTIMEZONE
BEGIN:VEVENT
DTSTART;TZID=UTC:20230302T190000
DTEND;TZID=UTC:20230302T210000
DTSTAMP:20260425T174826
CREATED:20230223T124251Z
LAST-MODIFIED:20230223T124253Z
UID:5510-1677783600-1677790800@nuevo.eslecrin.es
SUMMARY:Ayuntamiento cerca…Béznar
DESCRIPTION:En Béznar\, el jueves 2 de marzo a las 19:00h. Alcalde y concejales estarán presentes para atender cualquier necesidad o trámite pendiente de los vecinos. \nRecordamos que para contactar de forma presencial con nuestro alcalde Pedro Titos\, puede hacerlo dirigiéndose al Ayuntamiento de Lecrín: \n\nDe lunes a viernes de 8:00 a 9:30.\nTodas las tardes y fines de semana.\n\nContacto Directo por teléfono con nuestro alcalde Pedro Titos: \n\n657 855 495
URL:https://nuevo.eslecrin.es/eventos/ayuntamiento-cercabeznar
END:VEVENT
BEGIN:VEVENT
DTSTART;TZID=UTC:20230304T073000
DTEND;TZID=UTC:20230304T090000
DTSTAMP:20260425T174826
CREATED:20230202T123838Z
LAST-MODIFIED:20230202T123850Z
UID:5435-1677915000-1677920400@nuevo.eslecrin.es
SUMMARY:Viaje a Setenil y Olvera
DESCRIPTION:Viaje a Setenil de las bodegas y a Olvera\, día 4 de marzo a un precio de 33€ con plazas limitadas e inscripciones en el Ayuntamiento.
URL:https://nuevo.eslecrin.es/eventos/viaje-a-setenil-y-olvera
END:VEVENT
BEGIN:VEVENT
DTSTART;TZID=UTC:20230308T090000
DTEND;TZID=UTC:20230308T140000
DTSTAMP:20260425T174826
CREATED:20230215T140008Z
LAST-MODIFIED:20230215T140010Z
UID:5481-1678266000-1678284000@nuevo.eslecrin.es
SUMMARY:ITV agrícola
DESCRIPTION:ITV Específicamente para la inspección de tractores agrícolas\, maquinaria agrícola autopropulsada\, remolques agrícolas y otros vehículos agrícolas especiales\, excepto motocultores y máquinas equiparadas. En Lecrín en c/Mondújar (mercadillo)\, el día 8 de marzo de 9:00 a 14:00h.
URL:https://nuevo.eslecrin.es/eventos/itv-agricola-2
END:VEVENT
BEGIN:VEVENT
DTSTART;TZID=UTC:20230308T190000
DTEND;TZID=UTC:20230308T210000
DTSTAMP:20260425T174826
CREATED:20230306T153512Z
LAST-MODIFIED:20230306T153514Z
UID:5529-1678302000-1678309200@nuevo.eslecrin.es
SUMMARY:Tu ayuntamiento en… Murchas
DESCRIPTION:El miércoles 8 de marzo a las 19:00h\, en la nave de usos múltiples\, el alcalde y concejales estarán presentes para atender cualquier necesidad o trámite pendiente de los vecinos. \nRecordamos que para contactar de forma presencial con nuestro alcalde Pedro Titos\, puede hacerlo dirigiéndose al Ayuntamiento de Lecrín: \n\nDe lunes a viernes de 8:00 a 9:30\, y todas las tardes y fines de semana.\nTeléfono 657 855 495
URL:https://nuevo.eslecrin.es/eventos/tu-ayuntamiento-en-murchas
END:VEVENT
BEGIN:VEVENT
DTSTART;TZID=UTC:20230316T173000
DTEND;TZID=UTC:20230316T190000
DTSTAMP:20260425T174826
CREATED:20230315T141913Z
LAST-MODIFIED:20230315T141917Z
UID:5581-1678987800-1678993200@nuevo.eslecrin.es
SUMMARY:Tu ayuntamiento en… Chite
DESCRIPTION:En las escuelas de Chite\, el jueves 16 de marzo a las 19:30h. \n\n\n\nAlcalde y concejales estarán presentes para atender cualquier necesidad o trámite pendiente de los vecinos. \n\n\n\nRecordamos que para contactar de forma presencial con nuestro alcalde Pedro Titos\, puede hacerlo dirigiéndose al Ayuntamiento de Lecrín: \n\n\n\nDe lunes a viernes de 8:00 a 9:30\, y todas las tardes y fines de semana. \n\n\n\nTeléfono: 657 855 495
URL:https://nuevo.eslecrin.es/eventos/tu-ayuntamiento-en-chite
END:VEVENT
BEGIN:VEVENT
DTSTART;TZID=UTC:20230317T180000
DTEND;TZID=UTC:20230317T213000
DTSTAMP:20260425T174826
CREATED:20230222T152729Z
LAST-MODIFIED:20230222T152731Z
UID:5505-1679076000-1679088600@nuevo.eslecrin.es
SUMMARY:Yo mujer\, deporte y salud
DESCRIPTION:El viernes 17 marzo en la casa de la cultura de talará\, será gratuito. Confirmar asistencia con anterioridad en: \n\nFarmacia Lecrín\nFisioterapia Rocío Jiménez\nBluemethod
URL:https://nuevo.eslecrin.es/eventos/yo-mujer-deporte-y-salud
END:VEVENT
BEGIN:VEVENT
DTSTART;TZID=UTC:20230318T203000
DTEND;TZID=UTC:20230318T223000
DTSTAMP:20260425T174826
CREATED:20230309T151410Z
LAST-MODIFIED:20230309T151413Z
UID:5563-1679171400-1679178600@nuevo.eslecrin.es
SUMMARY:Música cofrade
DESCRIPTION:Música cofrade con la Banda de Música San Juan Bautista (Nigüelas – Lecrín) \n\nSábado 18 de marzo\, en Mondújar / Iglesia San Juan Bautista a las 20:30 horas\nDomingo 19 de marzo\, en Nigüelas / Iglesia San Juan Bautista a las 13:00 horas\nSábado 25 de marzo\, en Albuñuelas / Iglesia Nuestro Salvador a las 20:00 horas
URL:https://nuevo.eslecrin.es/eventos/musica-cofrade
END:VEVENT
BEGIN:VEVENT
DTSTART;TZID=UTC:20230322T080000
DTEND;TZID=UTC:20230324T170000
DTSTAMP:20260425T174826
CREATED:20230212T123413Z
LAST-MODIFIED:20230212T123416Z
UID:5464-1679472000-1679677200@nuevo.eslecrin.es
SUMMARY:Esquí Sierra Nevada
DESCRIPTION:Tres días por 225€\, el 22\, 23\, 24 de marzo \n1 día por 80€\, el 24 de marzo. \nMas información en el Ayuntamiento de Lecrín
URL:https://nuevo.eslecrin.es/eventos/esqui-sierra-nevada
END:VEVENT
BEGIN:VEVENT
DTSTART;TZID=UTC:20230330T170000
DTEND;TZID=UTC:20230330T183000
DTSTAMP:20260425T174826
CREATED:20230323T122646Z
LAST-MODIFIED:20230323T122702Z
UID:5603-1680195600-1680201000@nuevo.eslecrin.es
SUMMARY:Banco de historias
DESCRIPTION:Sé el mejor embajador de Lecrín\, crea un banco de historias\, ven a la merienda informativa el jueves 30 de marzo 2023 a las 17h en la casa de la cultura de Talará. Inscripción previa en el ayuntamiento de Lecrín
URL:https://nuevo.eslecrin.es/eventos/banco-de-historias
END:VEVENT
BEGIN:VEVENT
DTSTART;TZID=UTC:20230331T200000
DTEND;TZID=UTC:20230331T213000
DTSTAMP:20260425T174826
CREATED:20230323T122917Z
LAST-MODIFIED:20230323T122922Z
UID:5605-1680292800-1680298200@nuevo.eslecrin.es
SUMMARY:Taller de teatro
DESCRIPTION:Taller municipal de teatro Lecrín “Aprender a volar”. En la casa de la cultura de talará\, el viernes 31 de marzo a las 20h.
URL:https://nuevo.eslecrin.es/eventos/taller-de-teatro
END:VEVENT
END:VCALENDAR